Workbook

Sheet JENNIFFER
B2: id | C2: NCM | D2: APRESENTAÇÕES | E2: SUBSTANCIA | F2: Colunas1 | G2: Colunas2 | H2: ISENÇÃO DE PIS E COFINS | I2: DESCRIÇÃO DA CLASSE TERAPÊUTICA | J2: LABORATÓRIOS | K2: ETICO ou POP | L2: S / G / M / R | M2: MAT ~ 05/2014 Unidades (Caixas) | N2: MAT ~ 05/2014 Dólares (US$) | O2: MAT ~ 05/2014 Reais (R$) | P2: GRUPO | Q2: PIS | R2: COFINS | S2: CONTRIBUIÇÃO FOLHA | T2: TRIBUTOS SOBRE LUCRO | U2: OUTROS | V2: ICMS | W2: MVA MÉDIA | X2: TOTAL
B3: 1 | C3: 30049099 | D3: ABRILAR XPE 35 MG 100 ML x 1 (/5ML) | E3: SORBITOL | F3: =VLOOKUP(JENNIFFER!$B3,#REF!,4,1) -> #REF! | G3: =IF(JENNIFFER!$E3="",JENNIFFER!$F3,JENNIFFER!$E3) -> SORBITOL | I3: EXPECTORANTES | J3: FARMOQUIMICA | K3: E | L3: R | M3: 1908113 | N3: 21224102 | O3: 48103882 | P3: TOSSE
B4: =+B3+1 -> 2 | C4: 30049099 | D4: ABRILAR XPE 35 MG 100 ML x 1 (/5ML) | E4: SORBITOL | F4: =VLOOKUP(JENNIFFER!$B4,#REF!,4,1) -> #REF! | G4: =IF(JENNIFFER!$E4="",JENNIFFER!$F4,JENNIFFER!$E4) -> SORBITOL | I4: EXPECTORANTES | J4: FARMOQUIMICA | K4: E | L4: R | M4: 1908113 | N4: 21224102 | O4: 48103882 | P4: BRONQUITE
B5: =+B4+1 -> 3 | C5: 30044090 | D5: AC DEXAMETASONA MG CREME. 1 MG 10 G x 1 (/G) | E5: DEXAMETASONA | F5: =VLOOKUP(JENNIFFER!$B5,#REF!,4,1) -> #REF! | G5: =IF(JENNIFFER!$E5="",JENNIFFER!$F5,JENNIFFER!$E5) -> DEXAMETASONA | I5: CORTICOIDES TOP PUROS | J5: TEUTO BRASILEIRO | K5: E | L5: G | M5: 845236 | N5: 1777348 | O5: 4066786.3 | P5: ALERGIA
B6: =+B5+1 -> 4 | C6: 30049099 | D6: ACERATUM GOTAS OTO. 10 ML x 1 | E6: Hiperol | F6: =VLOOKUP(JENNIFFER!$B6,#REF!,4,1) -> #REF! | G6: =IF(JENNIFFER!$E6="",JENNIFFER!$F6,JENNIFFER!$E6) -> Hiperol | I6: P.P/REMOìAO CERA OUVIDOS | J6: DELTA | K6: P | L6: M | M6: 485233 | N6: 2191922 | O6: 5011942.2 | P6: DOR DE OUVIDO
B7: =+B6+1 -> 5 | C7: 30066000 | D7: ACETOFLUX CPR 10 MG x 5 | E7: Acetato de medroxiprogesterona | F7: =VLOOKUP(JENNIFFER!$B7,#REF!,4,1) -> #REF! | G7: =IF(JENNIFFER!$E7="",JENNIFFER!$F7,JENNIFFER!$E7) -> Acetato de medroxiprogesterona | I7: PROGESTAGEN EXC G3A,G3F | J7: EMS PHARMA | K7: E | L7: M | M7: 420847 | N7: 1157866 | O7: 2642928.5 | P7: TRH - MENOPAUSA
B8: =+B7+1 -> 6 | C8: 30043929 | D8: ACTONEL CPR REVEST 150 MG x 1 | E8: Risedronato sódico | F8: =VLOOKUP(JENNIFFER!$B8,#REF!,4,1) -> #REF! | G8: =IF(JENNIFFER!$E8="",JENNIFFER!$F8,JENNIFFER!$E8) -> Risedronato sódico | I8: BIFOSF OSTEOP E DES REL | J8: SANOFI | K8: E | L8: R | M8: 476588 | N8: 19699559 | O8: 44973575 | P8: TRATAMENTO OSTEOPOROSE
B9: =+B8+1 -> 7 | C9: 30049029 | D9: ADVIL CAPS GELATIN 400 MG x 8 | E9: Ibuprofeno | F9: =VLOOKUP(JENNIFFER!$B9,#REF!,4,1) -> #REF! | G9: =IF(JENNIFFER!$E9="",JENNIFFER!$F9,JENNIFFER!$E9) -> Ibuprofeno | I9: ANALG NAO NARCOT/A/PIRET | J9: PFIZER CONSUMER | K9: P | L9: M | M9: 3104441 | N9: 15127292 | O9: 34569972 | P9: FEBRE
B10: =+B9+1 -> 8 | C10: 30049029 | D10: ADVIL CAPS GELATIN 400 MG x 8 | E10: Ibuprofeno | F10: =VLOOKUP(JENNIFFER!$B10,#REF!,4,1) -> #REF! | G10: =IF(JENNIFFER!$E10="",JENNIFFER!$F10,JENNIFFER!$E10) -> Ibuprofeno | I10: ANALG NAO NARCOT/A/PIRET | J10: PFIZER CONSUMER | K10: P | L10: M | M10: 3104441 | N10: 15127292 | O10: 34569972 | P10: CÓLICAS MENSTRUAIS
B11: =+B10+1 -> 9 | C11: 30049029 | D11: ADVIL CAPS GELATIN 400 MG x 8 | E11: Ibuprofeno | F11: =VLOOKUP(JENNIFFER!$B11,#REF!,4,1) -> #REF! | G11: =IF(JENNIFFER!$E11="",JENNIFFER!$F11,JENNIFFER!$E11) -> Ibuprofeno | I11: ANALG NAO NARCOT/A/PIRET | J11: PFIZER CONSUMER | K11: P | L11: M | M11: 3104441 | N11: 15127292 | O11: 34569972 | P11: SINUSITE
B12: =+B11+1 -> 10 | C12: 30049039 | D12: AFOPIC CPR 5 MG x 20 | E12: Ácido Fólico | F12: =VLOOKUP(JENNIFFER!$B12,#REF!,4,1) -> #REF! | G12: =IF(JENNIFFER!$E12="",JENNIFFER!$F12,JENNIFFER!$E12) -> Ácido Fólico | I12: O.P.A/ANEM.A.FOLIC/FOLIN | J12: TEUTO BRASILEIRO | K12: E | L12: M | M12: 734175 | N12: 1757030 | O12: 4016936 | P12: ANEMIA
B13: =+B12+1 -> 11 | C13: 30049099 | D13: AH-ZUL CPR REVEST 50 MG x 1 | E13: Citrato de sildenafila | F13: =VLOOKUP(JENNIFFER!$B13,#REF!,4,1) -> #REF! | G13: =IF(JENNIFFER!$E13="",JENNIFFER!$F13,JENNIFFER!$E13) -> Citrato de sildenafila | I13: PRD DISF ERECTIL | J13: LEGRAND | K13: E | L13: M | M13: 1588844 | N13: 6152881 | O13: 14045538 | P13: DISFUNÇÃO ERÉTIL
B14: =+B13+1 -> 12 | C14: 30049069 | D14: AKINETON CPR 2 MG x 80 | E14: Cloridrato de biperideno | F14: =VLOOKUP(JENNIFFER!$B14,#REF!,4,1) -> #REF! | G14: =IF(JENNIFFER!$E14="",JENNIFFER!$F14,JENNIFFER!$E14) -> Cloridrato de biperideno | I14: A/PARKINSONIANOS | J14: ABBOTT | K14: E | L14: R | M14: 553221 | N14: 5005449 | O14: 11426125 | P14: PARKINSON
B15: =+B14+1 -> 13 | C15: 30049059 | D15: ALENDRONATO SOD.MG CPR REVEST 70 MG x 4 | E15: Alendronato de sódio | F15: =VLOOKUP(JENNIFFER!$B15,#REF!,4,1) -> #REF! | G15: =IF(JENNIFFER!$E15="",JENNIFFER!$F15,JENNIFFER!$E15) -> Alendronato de sódio | I15: BIFOSF OSTEOP E DES REL | J15: SANDOZ DO BRASIL | K15: E | L15: G | M15: 824735 | N15: 12084077 | O15: 27569931 | P15: TRATAMENTO OSTEOPOROSE
... B132: =+B131+1 -> 130 | C132: 30049059 | D132: CLOR.RANITIDINA MG CPR REVEST 150 MG x 20 | E132: Cloridrato de ranitidina | F132: =VLOOKUP(JENNIFFER!$B132,#REF!,4,1) -> #REF! | G132: =IF(JENNIFFER!$E132="",JENNIFFER!$F132,JENNIFFER!$E132) -> Cloridrato de ranitidina | I132: ANTAGONISTA RECEPTORES H2 | J132: TEUTO BRASILEIRO | K132: E | L132: G | M132: 609951 | N132: 3688152 | O132: 8409886.9 | P132: GASTRITE/ ÚLCERA
B133: =+B132+1 -> 131 | D133: CLOR.C MG CPR REVEST 50 MG x 30 | E133: cloridrato de sertralina | F133: =VLOOKUP(JENNIFFER!$B133,#REF!,4,1) -> #REF! | G133: =IF(JENNIFFER!$E133="",JENNIFFER!$F133,JENNIFFER!$E133) -> cloridrato de sertralina | I133: ANTI-DEPRESSIVOS SSRI | J133: EUROFARMA | K133: E | L133: G | M133: 604394 | N133: 12594653 | O133: 28738179 | P133: DEPRESSÃO
B134: =+B133+1 -> 132 | C134: 30049069 | D134: COCICHIMIL CPR 0.50 MG x 20 | E134: colchicina | F134: =VLOOKUP(JENNIFFER!$B134,#REF!,4,1) -> #REF! | G134: =IF(JENNIFFER!$E134="",JENNIFFER!$F134,JENNIFFER!$E134) -> colchicina | I134: ANTIGOTOSOS | J134: MULTILAB | K134: E | L134: M | M134: 434894 | N134: 1954886 | O134: 4451724.2 | P134: GOTA
B135: =+B134+1 -> 133 | C135: 30039099 | D135: COLCHIS CPR 0.50 MG x 30 | E135: colchicina | F135: =VLOOKUP(JENNIFFER!$B135,#REF!,4,1) -> #REF! | G135: =IF(JENNIFFER!$E135="",JENNIFFER!$F135,JENNIFFER!$E135) -> colchicina | I135: ANTIGOTOSOS | J135: APSEN | K135: E | L135: R | M135: 298401 | N135: 4054885 | O135: 9257106 | P135: GOTA
B136: =+B135+1 -> 134 | C136: 30045090 | D136: COMBIRON FOLICO CPR REVEST x 45 | E136: ferrocarbonila | F136: =VLOOKUP(JENNIFFER!$B136,#REF!,4,1) -> #REF! | G136: =IF(JENNIFFER!$E136="",JENNIFFER!$F136,JENNIFFER!$E136) -> ferrocarbonila | I136: ASSOCIACOES DE FERRO | J136: ACHE | K136: E | L136: M | M136: 1613528 | N136: 14394211 | O136: 32872535 | P136: ANEMIA
B137: =+B136+1 -> 135 | C137: 30045090 | D137: COMBIRON LIQD 120 ML x 1 | E137: glicinato ferrico + associacoes | F137: =VLOOKUP(JENNIFFER!$B137,#REF!,4,1) -> #REF! | G137: =IF(JENNIFFER!$E137="",JENNIFFER!$F137,JENNIFFER!$E137) -> glicinato ferrico + associacoes | I137: ASSOCIACOES DE FERRO | J137: ACHE | K137: E | L137: M | M137: 599313 | N137: 2411474 | O137: 5503566.5 | P137: ANEMIA
B138: =+B137+1 -> 136 | C138: 30049099 | D138: COMPLEXO A P 46 CPR x 60 | F138: =VLOOKUP(JENNIFFER!$B138,#REF!,4,1) -> #REF! | G138: =IF(JENNIFFER!$E138="",JENNIFFER!$F138,JENNIFFER!$E138) -> #REF! | I138: LAXANTES DE CONTACTO | J138: ALMEIDA PRADO | K138: P | L138: M | M138: 3828202 | N138: 17190845 | O138: 39263244 | P138: EFEITOS ADVERSOS DA QUIMIOT
B139: =+B138+1 -> 137 | C139: 30049054 | D139: COR MIO CPR BLISTER 200 MG x 30 | E139: amiodarona | F139: =VLOOKUP(JENNIFFER!$B139,#REF!,4,1) -> #REF! | G139: =IF(JENNIFFER!$E139="",JENNIFFER!$F139,JENNIFFER!$E139) -> amiodarona | I139: A/ARRITMICOS CARDIACOS | J139: SANDOZ DO BRASIL | K139: E | L139: M | M139: 90668 | N139: 720552.81 | O139: 1624034 | P139: ARRITMIA
B140: =+B139+1 -> 138 | C140: 30043999 | D140: CORTICORTEN CPR 20 MG x 20 | E140: prednisona | F140: =VLOOKUP(JENNIFFER!$B140,#REF!,4,1) -> #REF! | G140: =IF(JENNIFFER!$E140="",JENNIFFER!$F140,JENNIFFER!$E140) -> prednisona | I140: CORTICOEST.ORAIS PUROS | J140: NEO QUIMICA | K140: E | L140: M | M140: 2884397 | N140: 14945696 | O140: 34068993 | P140: GOTA
B141: =+B140+1 -> 139 | C141: 30043999 | D141: CORTICORTEN CPR 20 MG x 20 | E141: prednisona | F141: =VLOOKUP(JENNIFFER!$B141,#REF!,4,1) -> #REF! | G141: =IF(JENNIFFER!$E141="",JENNIFFER!$F141,JENNIFFER!$E141) -> prednisona | I141: CORTICOEST.ORAIS PUROS | J141: NEO QUIMICA | K141: E | L141: M | M141: 2884397 | N141: 14945696 | O141: 34068993 | P141: EFEITOS ADVERSOS DA QUIMIOT
B142: =+B141+1 -> 140 | C142: 30043999 | D142: CORTICORTEN CPR 20 MG x 20 | E142: prednisona | F142: =VLOOKUP(JENNIFFER!$B142,#REF!,4,1) -> #REF! | G142: =IF(JENNIFFER!$E142="",JENNIFFER!$F142,JENNIFFER!$E142) -> prednisona | I142: CORTICOEST.ORAIS PUROS | J142: NEO QUIMICA | K142: E | L142: M | M142: 2884397 | N142: 14945696 | O142: 34068993 | P142: SINUSITE
B143: =+B142+1 -> 141 | C143: 30049079 | D143: CORTITOP CREME 10 G x 1 | E143: dexametasona | F143: =VLOOKUP(JENNIFFER!$B143,#REF!,4,1) -> #REF! | G143: =IF(JENNIFFER!$E143="",JENNIFFER!$F143,JENNIFFER!$E143) -> dexametasona | I143: CORTICOIDES TOP PUROS | J143: MULTILAB | K143: E | L143: M | M143: 934058 | N143: 3082151 | O143: 7041280.7 | P143: ALERGIA
B144: =+B143+1 -> 142 | C144: 30049099 | D144: CYSTEX DRAG x 24 | E144: acriflavina+beladona+metenamina | F144: =VLOOKUP(JENNIFFER!$B144,#REF!,4,1) -> #REF! | G144: =IF(JENNIFFER!$E144="",JENNIFFER!$F144,JENNIFFER!$E144) -> acriflavina+beladona+metenamina | I144: OUT ANTISEP URINAR | J144: EMS PHARMA | K144: P | L144: M | M144: 1915905 | N144: 9897887 | O144: 22611293 | P144: INFECÇÃO URINÁRIA
B145: =+B144+1 -> 143 | C145: 30045090 | D145: DACTIL-OB DRAG x 30 | E145: ac. ascorbico+hesperidina+piperidolato | F145: =VLOOKUP(JENNIFFER!$B145,#REF!,4,1) -> #REF! | G145: =IF(JENNIFFER!$E145="",JENNIFFER!$F145,JENNIFFER!$E145) -> ac. ascorbico+hesperidina+piperidolato | I145: ANTIESPAM+ANTICOL PUROS | J145: SANOFI | K145: E | L145: R | M145: 388550 | N145: 1961904 | O145: 4479782.1 | P145: DOR DE BARRIGA/ CÓLICAS
B146: =+B145+1 -> 144 | C146: 30039089 | D146: DAFLON 500 CPR REVEST 500 MG x 30 | E146: diosmina+hesperidina | F146: =VLOOKUP(JENNIFFER!$B146,#REF!,4,1) -> #REF! | G146: =IF(JENNIFFER!$E146="",JENNIFFER!$F146,JENNIFFER!$E146) -> diosmina+hesperidina | I146: VASOPROTETORES SIST | J146: SERVIER DO BRASIL | K146: E | L146: R | M146: 766125 | N146: 17444669 | O146: 39895271 | P146: DISTÚRBIOS CIRCULATÓRIOS
B147: =+B146+1 -> 145 | C147: 30049049 | D147: DAFORIN CPR REVEST 20 MG x 30 | E147: cloridrato de fluoxetina | F147: =VLOOKUP(JENNIFFER!$B147,#REF!,4,1) -> #REF! | G147: =IF(JENNIFFER!$E147="",JENNIFFER!$F147,JENNIFFER!$E147) -> cloridrato de fluoxetina | I147: ANTI-DEPRESSIVOS SSRI | J147: EMS PHARMA | K147: E | L147: R | M147: 742745 | N147: 10752522 | O147: 24518534 | P147: DEPRESSÃO
B148: =+B147+1 -> 146 | C148: 30049099 | D148: DECONGEX PLUS NF CPR.RE.LP x 12 | E148: bronfeniramina+fenilefrina | F148: =VLOOKUP(JENNIFFER!$B148,#REF!,4,1) -> #REF! | G148: =IF(JENNIFFER!$E148="",JENNIFFER!$F148,JENNIFFER!$E148) -> bronfeniramina+fenilefrina | I148: PREP.SISTEMICAS NASAIS | J148: ACHE | K148: P | L148: M | M148: 2930313 | N148: 16580280 | O148: 37663083 | P148: RINITE ALÉRGICA
B149: =+B148+1 -> 147 | C149: 30049099 | D149: DECONGEX PLUS NF CPR.RE.LP x 12 | E149: bronfeniramina+fenilefrina | F149: =VLOOKUP(JENNIFFER!$B149,#REF!,4,1) -> #REF! | G149: =IF(JENNIFFER!$E149="",JENNIFFER!$F149,JENNIFFER!$E149) -> bronfeniramina+fenilefrina | I149: PREP.SISTEMICAS NASAIS | J149: ACHE | K149: P | L149: M | M149: 2930313 | N149: 16580280 | O149: 37663083 | P149: DOENÇAS PULMONARES - GERAL
B150: =+B149+1 -> 148 | C150: 30049099 | D150: DECONGEX PLUS NF GOTAS 20 ML x 1 | E150: bronfeniramina+fenilefrina | F150: =VLOOKUP(JENNIFFER!$B150,#REF!,4,1) -> #REF! | G150: =IF(JENNIFFER!$E150="",JENNIFFER!$F150,JENNIFFER!$E150) -> bronfeniramina+fenilefrina | I150: PREP.SISTEMICAS NASAIS | J150: ACHE | K150: P | L150: M | M150: 3488119 | N150: 10692324 | O150: 24262392 | P150: GRIPE E RESFRIADO
... B190: =+B189+1 -> 188 | C190: 30049039 | D190: ELANI CICLO CPR REVEST x 21 | E190: drosperinona + etinilestradiol | F190: =VLOOKUP(JENNIFFER!$B190,#REF!,4,1) -> #REF! | G190: =IF(JENNIFFER!$E190="",JENNIFFER!$F190,JENNIFFER!$E190) -> drosperinona + etinilestradiol | I190: P.MONOF.C/ESTROG.<50MCG | J190: LIBBS | K190: E | L190: M | M190: 2541406 | N190: 30386426 | O190: 69360533 | P190: ANTICONCEPCIONAIS
B191: =+B190+1 -> 189 | C191: 30049039 | D191: EMSEXPECTOR XAR. 120 ML x 1 | F191: =VLOOKUP(JENNIFFER!$B191,#REF!,4,1) -> #REF! | G191: =IF(JENNIFFER!$E191="",JENNIFFER!$F191,JENNIFFER!$E191) -> #REF! | I191: EXPECTORANTES | J191: EMS PHARMA | K191: E | L191: M | M191: 1805127 | N191: 9454570 | O191: 21455324 | P191: TOSSE
B192: =+B191+1 -> 190 | C192: 30044090 | D192: ENXAK CPR LING 2 MG x 12 | E192: m.didroergotamina+dipirona+cafeina | F192: =VLOOKUP(JENNIFFER!$B192,#REF!,4,1) -> #REF! | G192: =IF(JENNIFFER!$E192="",JENNIFFER!$F192,JENNIFFER!$E192) -> m.didroergotamina+dipirona+cafeina | I192: T OUT PREP A-ENXAQUECA | J192: CAZI | K192: E | L192: M | M192: 1817060 | N192: 7663035 | O192: 17480117 | P192: DOR DE CABEÇA/ ENXAQUECA
B193: =+B192+1 -> 191 | C193: 30049069 | D193: EPEZ CPR 10 MG x 30 | E193: cloridrato de donepezila | F193: =VLOOKUP(JENNIFFER!$B193,#REF!,4,1) -> #REF! | G193: =IF(JENNIFFER!$E193="",JENNIFFER!$F193,JENNIFFER!$E193) -> cloridrato de donepezila | I193: PROD A-ALZ INIB COLINEST | J193: TORRENT | K193: E | L193: M | M193: 126764 | N193: 4221081 | O193: 9639356.2 | P193: ALZHEIMER
B194: =+B193+1 -> 192 | C194: 30049069 | D194: EPEZ CPR 5 MG x 30 | E194: cloridrato de donepezila | F194: =VLOOKUP(JENNIFFER!$B194,#REF!,4,1) -> #REF! | G194: =IF(JENNIFFER!$E194="",JENNIFFER!$F194,JENNIFFER!$E194) -> cloridrato de donepezila | I194: PROD A-ALZ INIB COLINEST | J194: TORRENT | K194: E | L194: M | M194: 144340 | N194: 4380130 | O194: 9999875 | P194: ALZHEIMER
B195: =+B194+1 -> 193 | C195: 30049099 | D195: ESPASMO FLATOL GOTAS 20 ML x 1 | E195: simeticona+homatropina | F195: =VLOOKUP(JENNIFFER!$B195,#REF!,4,1) -> #REF! | G195: =IF(JENNIFFER!$E195="",JENNIFFER!$F195,JENNIFFER!$E195) -> simeticona+homatropina | I195: A/ESPASMOD/ASS.OUT.PROD | J195: LEGRAND | K195: E | L195: M | M195: 341141 | N195: 1960298 | O195: 4473572.8 | P195: DOR DE BARRIGA/ CÓLICAS
B196: =+B195+1 -> 194 | C196: 30043939 | D196: ESTREVA GEL GEL PERCUTAN 1 % 50 G x 1 | E196: estradiol | F196: =VLOOKUP(JENNIFFER!$B196,#REF!,4,1) -> #REF! | G196: =IF(JENNIFFER!$E196="",JENNIFFER!$F196,JENNIFFER!$E196) -> estradiol | I196: ESTROGEN EXC G3A,G3E,G3F | J196: TEVA | K196: E | L196: M | M196: 286986 | N196: 4689132 | O196: 10708264 | P196: TRH - MENOPAUSA
...

Sheet CHECK LIST
C1: GERAR ARQUIVO COM 7000 ITENS COM OS DADOS QUE EXISTEM
C4: BASE ÚNICA
C5: LIGAR LABORATORIOS | D5: EAN
C6: SINDUSFARMA LIGAR DIRETOR | D6: NCM
C7: LISTA POSTIVA POR EAN | D7: TENHO TODAS ?
C8: GERAR LISTA EAN-DESCRIÇÃO DO PRODUTO POR LABORATORIO QUE NÃO TEM NCM
C9: GERAR TABELA EXCEL COM PRODUTOS ANVISA NCM EAN + -
C11: O QUE FALTA
C12: CLASSE TERAPEUTICA
C13: LABORATORIOS
C14: GENERICO
C15: ETICO ou POP
C16: S / G / M / R
C20: TABELAS | D20: REGISTROS | E20: EAN | F20: EAN2 | G20: Colunas1 | H20: NFE
C22: ANVISA PRECOS MEDICAMENTOS CONSUMIDOR (20140108) | D22: 25800 | E22: 7714 | F22: 25800 | G22: =+'CHECK LIST'!$E22/'CHECK LIST'!$F22 -> 0.29899225
C23: VENDAS APRESENTACOES MEDICAMENTOS | D23: 25492
C24: ABCFARMA_TABELA | D24: 17555 | F24: 14555
C25: MEDICAMENTOS_EAN_NCM | D25: 7714
C26: LISTA DE POSIVITO NEGATIVO | D26: 11149
C27: EAN ABCFARMA=ANVISA | D27: 14568 | F27: 14555
C30: MedicamentoNegPos | D30: (Nenhum nome de coluna)
C31: O | D31: 30
C32: N- NEUTRA | D32: 715
C33: - | D33: 5661
C34: + | D34: 11149
C37: MedicamentoNegPos | D37: (Nenhum nome de coluna)
C38: N | D38: 13
C39: - | D39: 4332
C40: + | D40: 10223

Sheet RANKING
X2: 1
C4: 1 | D4: =C4+1 -> 2 | E4: =D4+1 -> 3 | F4: =E4+1 -> 4 | G4: =F4+1 -> 5 | H4: =G4+1 -> 6 | I4: =H4+1 -> 7 | J4: =I4+1 -> 8 | K4: =J4+1 -> 9 | ... AB4: =AA4+1 -> 26
D5: =E9 -> AM | E5: =F9 -> BA | F5: =G9 -> CE | G5: =H9 -> DF | H5: =I9 -> ES | I5: =J9 -> GO | J5: =K9 -> MG | K5: =L9 -> MS | ... S5: =T9 -> SP | T5: =V9 -> FOLHA | U5: =U9 -> COFINS | V5: =W9 -> OUTROS | W5: =X9 -> PIS | X5: Cofins | Y5: s/folha | Z5: Outros | AA5: =AB9 -> Menor | AB5: s/lucro
B6: 17 | C6: =INDEX(RANKING!$C$10:$AB$55,$B$6,C4) -> 17 | D6: =INDEX(RANKING!$C$10:$AB$55,$B$6,D4)/100 -> #VALUE! | E6: =INDEX(RANKING!$C$10:$AB$55,$B$6,E4)/100 -> 0.34073333 | F6: =INDEX(RANKING!$C$10:$AB$55,$B$6,F4)/100 -> 0.34073333 | G6: =INDEX(RANKING!$C$10:$AB$55,$B$6,G4)/100 -> 0.34073333 | H6: =INDEX(RANKING!$C$10:$AB$55,$B$6,H4)/100 -> 0.34073333 | I6: =INDEX(RANKING!$C$10:$AB$55,$B$6,I4)/100 -> 0.34073333 | J6: =INDEX(RANKING!$C$10:$AB$55,$B$6,J4)/100 -> 0.34073333 | K6: =INDEX(RANKING!$C$10:$AB$55,$B$6,K4)/100 -> 0.34406667 | ... AB6: =INDEX(RANKING!$C$10:$AB$55,$B$6,AB4)/100 -> 0.29073333
C7: =PROPER("Grupo: "&C6) -> Grupo: 17
C9: Ranking | D9: VISÃO DOENÇA E LABORATÓRIO | E9: AM | F9: BA | G9: CE | H9: DF | I9: ES | J9: GO | K9: MG | L9: MS | M9: MT | N9: PA | O9: PE | P9: PR | Q9: RJ | R9: RS | S9: SC | T9: SP | U9: COFINS | V9: FOLHA | W9: OUTROS | X9: PIS | Y9: LUCRO | Z9: Média | AA9: Maior | AB9: Menor
C10: =RANK(Tabela112[[#This Row],[Média]],Tabela112[Média],0) -> 1 | D10: DOR MUSCULAR | E10: 36.74 | F10: 36.74 | G10: 36.74 | H10: 36.74 | I10: 36.74 | J10: 36.74 | K10: 37.74 | L10: 36.74 | M10: 36.74 | N10: 36.74 | O10: 36.74 | P10: 31.74 | Q10: 38.74 | R10: 36.74 | S10: 36.74 | T10: 37.74 | U10: 9.9 | V10: 3.27 | W10: 1.35 | X10: 2.1 | Y10: 3.12 | Z10: =AVERAGE(Tabela112[[#This Row],[AM ]:[SP ]]) -> 36.6775 | AA10: =MAX(Tabela112[[#This Row],[AM ]:[SP ]]) -> 38.74 | AB10: =MIN(Tabela112[[#This Row],[AM ]:[SP ]]) -> 31.74
C11: =RANK(Tabela112[[#This Row],[Média]],Tabela112[Média],0) -> 1 | D11: GRIPE E RESFRIADO | E11: 36.74 | F11: 36.74 | G11: 36.74 | H11: 36.74 | I11: 36.74 | J11: 36.74 | K11: 37.74 | L11: 36.74 | M11: 36.74 | N11: 36.74 | O11: 36.74 | P11: 31.74 | Q11: 38.74 | R11: 36.74 | S11: 36.74 | T11: 37.74 | U11: 9.9 | V11: 3.27 | W11: 1.35 | X11: 2.1 | Y11: 3.12 | Z11: =AVERAGE(Tabela112[[#This Row],[AM ]:[SP ]]) -> 36.6775 | AA11: =MAX(Tabela112[[#This Row],[AM ]:[SP ]]) -> 38.74 | AB11: =MIN(Tabela112[[#This Row],[AM ]:[SP ]]) -> 31.74 | AF11: Doença | AG11: Carga Tributária Média
C12: =RANK(Tabela112[[#This Row],[Média]],Tabela112[Média],0) -> 1 | D12: TOSSE | E12: 36.74 | F12: 36.74 | G12: 36.74 | H12: 36.74 | I12: 36.74 | J12: 36.74 | K12: 37.74 | L12: 36.74 | M12: 36.74 | N12: 36.74 | O12: 36.74 | P12: 31.74 | Q12: 38.74 | R12: 36.74 | S12: 36.74 | T12: 37.74 | U12: 9.9 | V12: 3.27 | W12: 1.35 | X12: 2.1 | Y12: 3.12 | Z12: =AVERAGE(Tabela112[[#This Row],[AM ]:[SP ]]) -> 36.6775 | AA12: =MAX(Tabela112[[#This Row],[AM ]:[SP ]]) -> 38.74 | AB12: =MIN(Tabela112[[#This Row],[AM ]:[SP ]]) -> 31.74 | AE12: 1 | AF12: =TRIM(PROPER(INDEX(RANKING!$D$10:$D$55,AE12,1))) -> Dor Muscular | AG12: =INDEX(RANKING!$Z$10:$Z$55,AE12,1)/100 -> 0.366775
C13: =RANK(Tabela112[[#This Row],[Média]],Tabela112[Média],0) -> 4 | D13: HEMORROIDAS | E13: 36.74 | F13: 36.74 | G13: 36.74 | H13: 36.74 | I13: 36.74 | J13: 36.74 | K13: 36.99 | L13: 36.74 | M13: 36.74 | N13: 36.74 | O13: 36.74 | P13: 31.74 | Q13: 38.74 | R13: 36.74 | S13: 36.74 | T13: 37.74 | U13: 9.9 | V13: 3.27 | W13: 1.35 | X13: 2.1 | Y13: 3.12 | Z13: =AVERAGE(Tabela112[[#This Row],[AM ]:[SP ]]) -> 36.630625 | AA13: =MAX(Tabela112[[#This Row],[AM ]:[SP ]]) -> 38.74 | AB13: =MIN(Tabela112[[#This Row],[AM ]:[SP ]]) -> 31.74 | AE13: =AE12+1 -> 2 | AF13: =TRIM(PROPER(INDEX(RANKING!$D$10:$D$55,AE13,1))) -> Gripe E Resfriado | AG13: =INDEX(RANKING!$Z$10:$Z$55,AE13,1)/100 -> 0.366775
C14: =RANK(Tabela112[[#This Row],[Média]],Tabela112[Média],0) -> 5 | D14: AZIA/ MÁ DIGESTÃO | E14: 36.74 | F14: 36.74 | G14: 36.74 | H14: 36.74 | I14: 36.74 | J14: 36.74 | K14: 36.24 | L14: 36.74 | M14: 36.74 | N14: 36.74 | O14: 36.74 | P14: 31.74 | Q14: 38.74 | R14: 36.74 | S14: 36.74 | T14: 37.74 | U14: 9.9 | V14: 3.27 | W14: 1.35 | X14: 2.1 | Y14: 3.12 | Z14: =AVERAGE(Tabela112[[#This Row],[AM ]:[SP ]]) -> 36.58375 | AA14: =MAX(Tabela112[[#This Row],[AM ]:[SP ]]) -> 38.74 | AB14: =MIN(Tabela112[[#This Row],[AM ]:[SP ]]) -> 31.74 | AE14: =AE13+1 -> 3 | AF14: =TRIM(PROPER(INDEX(RANKING!$D$10:$D$55,AE14,1))) -> Tosse | AG14: =INDEX(RANKING!$Z$10:$Z$55,AE14,1)/100 -> 0.366775
C15: =RANK(Tabela112[[#This Row],[Média]],Tabela112[Média],0) -> 6 | D15: SINTOMAS DA DENGUE | E15: 36.74 | F15: 36.74 | G15: 36.74 | H15: 36.74 | I15: 36.74 | J15: 36.74 | K15: 35.073333 | L15: 36.74 | M15: 36.74 | N15: 36.74 | O15: 36.74 | P15: 31.74 | Q15: 38.74 | R15: 36.74 | S15: 36.74 | T15: 37.74 | U15: 9.9 | V15: 3.27 | W15: 1.35 | X15: 2.1 | Y15: 3.12 | Z15: =AVERAGE(Tabela112[[#This Row],[AM ]:[SP ]]) -> 36.510833 | AA15: =MAX(Tabela112[[#This Row],[AM ]:[SP ]]) -> 38.74 | AB15: =MIN(Tabela112[[#This Row],[AM ]:[SP ]]) -> 31.74 | AE15: =AE14+1 -> 4 | AF15: =TRIM(PROPER(INDEX(RANKING!$D$10:$D$55,AE15,1))) -> Hemorroidas | AG15: =INDEX(RANKING!$Z$10:$Z$55,AE15,1)/100 -> 0.36630625
C16: =RANK(Tabela112[[#This Row],[Média]],Tabela112[Média],0) -> 7 | D16: MACHUCADOS E CONTUSÕES | E16: 36.465 | F16: 36.465 | G16: 36.465 | H16: 36.465 | I16: 36.465 | J16: 36.465 | K16: 35.665 | L16: 36.465 | M16: 36.465 | N16: 36.465 | O16: 36.465 | P16: 31.465 | Q16: 38.465 | R16: 36.465 | S16: 36.465 | T16: 37.465 | U16: 9.67 | V16: 3.27 | W16: 1.35 | X16: 2.055 | Y16: 3.12 | Z16: =AVERAGE(Tabela112[[#This Row],[AM ]:[SP ]]) -> 36.29 | AA16: =MAX(Tabela112[[#This Row],[AM ]:[SP ]]) -> 38.465 | AB16: =MIN(Tabela112[[#This Row],[AM ]:[SP ]]) -> 31.465 | AE16: =AE15+1 -> 5 | AF16: =TRIM(PROPER(INDEX(RANKING!$D$10:$D$55,AE16,1))) -> Azia/ Má Digestão | AG16: =INDEX(RANKING!$Z$10:$Z$55,AE16,1)/100 -> 0.3658375
C17: =RANK(Tabela112[[#This Row],[Média]],Tabela112[Média],0) -> 8 | D17: ANEMIA | E17: 35.54 | F17: 35.54 | G17: 35.54 | H17: 35.54 | I17: 35.54 | J17: 35.54 | K17: 36.54 | L17: 35.54 | M17: 35.54 | N17: 35.54 | O17: 35.54 | P17: 30.54 | Q17: 37.54 | R17: 35.54 | S17: 35.54 | T17: 36.54 | U17: 8.91 | V17: 3.27 | W17: 1.35 | X17: 1.89 | Y17: 3.12 | Z17: =AVERAGE(Tabela112[[#This Row],[AM ]:[SP ]]) -> 35.4775 | AA17: =MAX(Tabela112[[#This Row],[AM ]:[SP ]]) -> 37.54 | AB17: =MIN(Tabela112[[#This Row],[AM ]:[SP ]]) -> 30.54 | AE17: =AE16+1 -> 6 | AF17: =TRIM(PROPER(INDEX(RANKING!$D$10:$D$55,AE17,1))) -> Sintomas Da Dengue | AG17: =INDEX(RANKING!$Z$10:$Z$55,AE17,1)/100 -> 0.36510833
C18: =RANK(Tabela112[[#This Row],[Média]],Tabela112[Média],0) -> 9 | D18: CÓLICAS MENSTRUAIS | E18: 35.54 | F18: 35.54 | G18: 35.54 | H18: 35.54 | I18: 35.54 | J18: 35.54 | K18: 35.94 | L18: 35.54 | M18: 35.54 | N18: 35.54 | O18: 35.54 | P18: 30.54 | Q18: 37.54 | R18: 35.54 | S18: 35.54 | T18: 36.54 | U18: 8.91 | V18: 3.27 | W18: 1.35 | X18: 1.89 | Y18: 3.12 | Z18: =AVERAGE(Tabela112[[#This Row],[AM ]:[SP ]]) -> 35.44 | AA18: =MAX(Tabela112[[#This Row],[AM ]:[SP ]]) -> 37.54 | AB18: =MIN(Tabela112[[#This Row],[AM ]:[SP ]]) -> 30.54 | AE18: =AE17+1 -> 7 | AF18: =TRIM(PROPER(INDEX(RANKING!$D$10:$D$55,AE18,1))) -> Machucados E Contusões | AG18: =INDEX(RANKING!$Z$10:$Z$55,AE18,1)/100 -> 0.3629
C19: =RANK(Tabela112[[#This Row],[Média]],Tabela112[Média],0) -> 9 | D19: DOR DE BARRIGA/ CÓLICAS | E19: 35.54 | F19: 35.54 | G19: 35.54 | H19: 35.54 | I19: 35.54 | J19: 35.54 | K19: 35.94 | L19: 35.54 | M19: 35.54 | N19: 35.54 | O19: 35.54 | P19: 30.54 | Q19: 37.54 | R19: 35.54 | S19: 35.54 | T19: 36.54 | U19: 8.91 | V19: 3.27 | W19: 1.35 | X19: 1.89 | Y19: 3.12 | Z19: =AVERAGE(Tabela112[[#This Row],[AM ]:[SP ]]) -> 35.44 | AA19: =MAX(Tabela112[[#This Row],[AM ]:[SP ]]) -> 37.54 | AB19: =MIN(Tabela112[[#This Row],[AM ]:[SP ]]) -> 30.54 | AE19: =AE18+1 -> 8 | AF19: =TRIM(PROPER(INDEX(RANKING!$D$10:$D$55,AE19,1))) -> Anemia | AG19: =INDEX(RANKING!$Z$10:$Z$55,AE19,1)/100 -> 0.354775
C20: =RANK(Tabela112[[#This Row],[Média]],Tabela112[Média],0) -> 11 | D20: FEBRE | E20: 35.54 | F20: 35.54 | G20: 35.54 | H20: 35.54 | I20: 35.54 | J20: 35.54 | K20: 34.74 | L20: 35.54 | M20: 35.54 | N20: 35.54 | O20: 35.54 | P20: 30.54 | Q20: 37.54 | R20: 35.54 | S20: 35.54 | T20: 36.54 | U20: 8.91 | V20: 3.27 | W20: 1.35 | X20: 1.89 | Y20: 3.12 | Z20: =AVERAGE(Tabela112[[#This Row],[AM ]:[SP ]]) -> 35.365 | AA20: =MAX(Tabela112[[#This Row],[AM ]:[SP ]]) -> 37.54 | AB20: =MIN(Tabela112[[#This Row],[AM ]:[SP ]]) -> 30.54 | AE20: =AE19+1 -> 9 | AF20: =TRIM(PROPER(INDEX(RANKING!$D$10:$D$55,AE20,1))) -> Cólicas Menstruais | AG20: =INDEX(RANKING!$Z$10:$Z$55,AE20,1)/100 -> 0.3544
C21: =RANK(Tabela112[[#This Row],[Média]],Tabela112[Média],0) -> 12 | D21: DISFUNÇÃO ERÉTIL | E21: 35.54 | F21: 35.54 | G21: 35.54 | H21: 35.54 | I21: 35.54 | J21: 35.54 | K21: 31.74 | L21: 35.54 | M21: 35.54 | N21: 35.54 | O21: 35.54 | P21: 30.54 | Q21: 37.54 | R21: 35.54 | S21: 35.54 | T21: 36.54 | U21: 8.91 | V21: 3.27 | W21: 1.35 | X21: 1.89 | Y21: 3.12 | Z21: =AVERAGE(Tabela112[[#This Row],[AM ]:[SP ]]) -> 35.1775 | AA21: =MAX(Tabela112[[#This Row],[AM ]:[SP ]]) -> 37.54 | AB21: =MIN(Tabela112[[#This Row],[AM ]:[SP ]]) -> 30.54 | AE21: =AE20+1 -> 10 | AF21: =TRIM(PROPER(INDEX(RANKING!$D$10:$D$55,AE21,1))) -> Dor De Barriga/ Cólicas | AG21: =INDEX(RANKING!$Z$10:$Z$55,AE21,1)/100 -> 0.3544
C22: =RANK(Tabela112[[#This Row],[Média]],Tabela112[Média],0) -> 13 | D22: DISTÚRBIOS CIRCULATÓRIOS | E22: 35.025714 | F22: 35.025714 | G22: 35.025714 | H22: 35.025714 | I22: 35.025714 | J22: 35.025714 | K22: 35.168571 | L22: 35.025714 | M22: 35.025714 | N22: 35.025714 | O22: 35.025714 | P22: 30.025714 | Q22: 37.025714 | R22: 35.025714 | S22: 35.025714 | T22: 36.025714 | U22: 8.4857143 | V22: 3.27 | W22: 1.35 | X22: 1.8 | Y22: 3.12 | Z22: =AVERAGE(Tabela112[[#This Row],[AM ]:[SP ]]) -> 34.909643 | AA22: =MAX(Tabela112[[#This Row],[AM ]:[SP ]]) -> 37.025714 | AB22: =MIN(Tabela112[[#This Row],[AM ]:[SP ]]) -> 30.025714
C23: =RANK(Tabela112[[#This Row],[Média]],Tabela112[Média],0) -> 14 | D23: DISENTERIA/ DIARRÉIA | E23: 34.34 | F23: 34.34 | G23: 34.34 | H23: 34.34 | I23: 34.34 | J23: 34.34 | K23: 34.74 | L23: 34.34 | M23: 34.34 | N23: 34.34 | O23: 34.34 | P23: 29.34 | Q23: 36.34 | R23: 34.34 | S23: 34.34 | T23: 35.34 | U23: 7.92 | V23: 3.27 | W23: 1.35 | X23: 1.68 | Y23: 3.12 | Z23: =AVERAGE(Tabela112[[#This Row],[AM ]:[SP ]]) -> 34.24 | AA23: =MAX(Tabela112[[#This Row],[AM ]:[SP ]]) -> 36.34 | AB23: =MIN(Tabela112[[#This Row],[AM ]:[SP ]]) -> 29.34
C24: =RANK(Tabela112[[#This Row],[Média]],Tabela112[Média],0) -> 14 | D24: DOR DE CABEÇA/ ENXAQUECA | E24: 34.34 | F24: 34.34 | G24: 34.34 | H24: 34.34 | I24: 34.34 | J24: 34.34 | K24: 34.74 | L24: 34.34 | M24: 34.34 | N24: 34.34 | O24: 34.34 | P24: 29.34 | Q24: 36.34 | R24: 34.34 | S24: 34.34 | T24: 35.34 | U24: 7.92 | V24: 3.27 | W24: 1.35 | X24: 1.68 | Y24: 3.12 | Z24: =AVERAGE(Tabela112[[#This Row],[AM ]:[SP ]]) -> 34.24 | AA24: =MAX(Tabela112[[#This Row],[AM ]:[SP ]]) -> 36.34 | AB24: =MIN(Tabela112[[#This Row],[AM ]:[SP ]]) -> 29.34
C25: =RANK(Tabela112[[#This Row],[Média]],Tabela112[Média],0) -> 14 | D25: LABIRINTITE E VERTIGEM | E25: 34.34 | F25: 34.34 | G25: 34.34 | H25: 34.34 | I25: 34.34 | J25: 34.34 | K25: 34.74 | L25: 34.34 | M25: 34.34 | N25: 34.34 | O25: 34.34 | P25: 29.34 | Q25: 36.34 | R25: 34.34 | S25: 34.34 | T25: 35.34 | U25: 7.92 | V25: 3.27 | W25: 1.35 | X25: 1.68 | Y25: 3.12 | Z25: =AVERAGE(Tabela112[[#This Row],[AM ]:[SP ]]) -> 34.24 | AA25: =MAX(Tabela112[[#This Row],[AM ]:[SP ]]) -> 36.34 | AB25: =MIN(Tabela112[[#This Row],[AM ]:[SP ]]) -> 29.34
C26: =RANK(Tabela112[[#This Row],[Média]],Tabela112[Média],0) -> 17 | D26: ALERGIA | E26: 34.073333 | F26: 34.073333 | G26: 34.073333 | H26: 34.073333 | I26: 34.073333 | J26: 34.073333 | K26: 34.406667 | L26: 34.073333 | M26: 34.073333 | N26: 34.073333 | O26: 34.073333 | P26: 29.073333 | Q26: 36.073333 | R26: 34.073333 | S26: 34.073333 | T26: 35.073333 | U26: 7.7 | V26: 3.27 | W26: 1.35 | X26: 1.6333333 | Y26: 3.12 | Z26: =AVERAGE(Tabela112[[#This Row],[AM ]:[SP ]]) -> 33.969167 | AA26: =MAX(Tabela112[[#This Row],[AM ]:[SP ]]) -> 36.073333 | AB26: =MIN(Tabela112[[#This Row],[AM ]:[SP ]]) -> 29.073333
C27: =RANK(Tabela112[[#This Row],[Média]],Tabela112[Média],0) -> 18 | D27: EFEITOS ADVERSOS DA QUIMIOT | E27: 32.74 | F27: 32.74 | G27: 32.74 | H27: 32.74 | I27: 32.74 | J27: 32.74 | K27: 33.74 | L27: 32.74 | M27: 32.74 | N27: 32.74 | O27: 32.74 | P27: 27.74 | Q27: 34.74 | R27: 32.74 | S27: 32.74 | T27: 33.74 | U27: 6.6 | V27: 3.27 | W27: 1.35 | X27: 1.4 | Y27: 3.12 | Z27: =AVERAGE(Tabela112[[#This Row],[AM ]:[SP ]]) -> 32.6775 | AA27: =MAX(Tabela112[[#This Row],[AM ]:[SP ]]) -> 34.74 | AB27: =MIN(Tabela112[[#This Row],[AM ]:[SP ]]) -> 27.74
C28: =RANK(Tabela112[[#This Row],[Média]],Tabela112[Média],0) -> 19 | D28: SINUSITE | E28: 32.74 | F28: 32.74 | G28: 32.74 | H28: 32.74 | I28: 32.74 | J28: 32.74 | K28: 32.406667 | L28: 32.74 | M28: 32.74 | N28: 32.74 | O28: 32.74 | P28: 27.74 | Q28: 34.74 | R28: 32.74 | S28: 32.74 | T28: 33.74 | U28: 6.6 | V28: 3.27 | W28: 1.35 | X28: 1.4 | Y28: 3.12 | Z28: =AVERAGE(Tabela112[[#This Row],[AM ]:[SP ]]) -> 32.594167 | AA28: =MAX(Tabela112[[#This Row],[AM ]:[SP ]]) -> 34.74 | AB28: =MIN(Tabela112[[#This Row],[AM ]:[SP ]]) -> 27.74
C29: =RANK(Tabela112[[#This Row],[Média]],Tabela112[Média],0) -> 20 | D29: TRATAM TABAGISMO | E29: 31.94 | F29: 31.94 | G29: 31.94 | H29: 31.94 | I29: 31.94 | J29: 31.94 | K29: 32.94 | L29: 31.94 | M29: 31.94 | N29: 31.94 | O29: 31.94 | P29: 26.94 | Q29: 33.94 | R29: 31.94 | S29: 31.94 | T29: 32.94 | U29: 5.94 | V29: 3.27 | W29: 1.35 | X29: 1.26 | Y29: 3.12 | Z29: =AVERAGE(Tabela112[[#This Row],[AM ]:[SP ]]) -> 31.8775 | AA29: =MAX(Tabela112[[#This Row],[AM ]:[SP ]]) -> 33.94 | AB29: =MIN(Tabela112[[#This Row],[AM ]:[SP ]]) -> 26.94
C30: =RANK(Tabela112[[#This Row],[Média]],Tabela112[Média],0) -> 21 | D30: DOENÇAS PULMONARES - GERAL | E30: 31.94 | F30: 31.94 | G30: 31.94 | H30: 31.94 | I30: 31.94 | J30: 31.94 | K30: 32.34 | L30: 31.94 | M30: 31.94 | N30: 31.94 | O30: 31.94 | P30: 26.94 | Q30: 33.94 | R30: 31.94 | S30: 31.94 | T30: 32.94 | U30: 5.94 | V30: 3.27 | W30: 1.35 | X30: 1.26 | Y30: 3.12 | Z30: =AVERAGE(Tabela112[[#This Row],[AM ]:[SP ]]) -> 31.84 | AA30: =MAX(Tabela112[[#This Row],[AM ]:[SP ]]) -> 33.94 | AB30: =MIN(Tabela112[[#This Row],[AM ]:[SP ]]) -> 26.94
C31: =RANK(Tabela112[[#This Row],[Média]],Tabela112[Média],0) -> 21 | D31: NÁUSEAS | E31: 31.94 | F31: 31.94 | G31: 31.94 | H31: 31.94 | I31: 31.94 | J31: 31.94 | K31: 32.34 | L31: 31.94 | M31: 31.94 | N31: 31.94 | O31: 31.94 | P31: 26.94 | Q31: 33.94 | R31: 31.94 | S31: 31.94 | T31: 32.94 | U31: 5.94 | V31: 3.27 | W31: 1.35 | X31: 1.26 | Y31: 3.12 | Z31: =AVERAGE(Tabela112[[#This Row],[AM ]:[SP ]]) -> 31.84 | AA31: =MAX(Tabela112[[#This Row],[AM ]:[SP ]]) -> 33.94 | AB31: =MIN(Tabela112[[#This Row],[AM ]:[SP ]]) -> 26.94
C32: =RANK(Tabela112[[#This Row],[Média]],Tabela112[Média],0) -> 23 | D32: DOR DE GARGANTA | E32: 31.94 | F32: 31.94 | G32: 31.94 | H32: 31.94 | I32: 31.94 | J32: 31.94 | K32: 31.74 | L32: 31.94 | M32: 31.94 | N32: 31.94 | O32: 31.94 | P32: 26.94 | Q32: 33.94 | R32: 31.94 | S32: 31.94 | T32: 32.94 | U32: 5.94 | V32: 3.27 | W32: 1.35 | X32: 1.26 | Y32: 3.12 | Z32: =AVERAGE(Tabela112[[#This Row],[AM ]:[SP ]]) -> 31.8025 | AA32: =MAX(Tabela112[[#This Row],[AM ]:[SP ]]) -> 33.94 | AB32: =MIN(Tabela112[[#This Row],[AM ]:[SP ]]) -> 26.94
C33: =RANK(Tabela112[[#This Row],[Média]],Tabela112[Média],0) -> 24 | D33: BRONQUITE | E33: 31.406667 | F33: 31.406667 | G33: 31.406667 | H33: 31.406667 | I33: 31.406667 | J33: 31.406667 | K33: 32.406667 | L33: 31.406667 | M33: 31.406667 | N33: 31.406667 | O33: 31.406667 | P33: 26.406667 | Q33: 33.406667 | R33: 31.406667 | S33: 31.406667 | T33: 32.406667 | U33: 5.5 | V33: 3.27 | W33: 1.35 | X33: 1.1666667 | Y33: 3.12 | Z33: =AVERAGE(Tabela112[[#This Row],[AM ]:[SP ]]) -> 31.344167 | AA33: =MAX(Tabela112[[#This Row],[AM ]:[SP ]]) -> 33.406667 | AB33: =MIN(Tabela112[[#This Row],[AM ]:[SP ]]) -> 26.406667
... C55: =RANK(Tabela112[[#This Row],[Média]],Tabela112[Média],0) -> 46 | D55: HIPERTENSÃO | E55: 24.74 | F55: 24.74 | G55: 24.74 | H55: 24.74 | I55: 24.74 | J55: 24.74 | K55: 20.34 | L55: 24.74 | M55: 24.74 | N55: 24.74 | O55: 24.74 | P55: 19.74 | Q55: 26.74 | R55: 24.74 | S55: 24.74 | T55: 25.74 | U55: 0 | V55: 3.27 | W55: 1.35 | X55: 0 | Y55: 3.12 | Z55: =AVERAGE(Tabela112[[#This Row],[AM ]:[SP ]]) -> 24.34 | AA55: =MAX(Tabela112[[#This Row],[AM ]:[SP ]]) -> 26.74 | AB55: =MIN(Tabela112[[#This Row],[AM ]:[SP ]]) -> 19.74

Sheet bdGraficoDoenças
C1: 1 | D1: =C1+1 -> 2 | E1: =D1+1 -> 3 | F1: =E1+1 -> 4 | G1: =F1+1 -> 5 | H1: =G1+1 -> 6 | I1: =H1+1 -> 7 | J1: =I1+1 -> 8 | K1: =J1+1 -> 9 | ... AC1: =AB1+1 -> 27
D2: =D6 -> AM | E2: =E6 -> BA | F2: =F6 -> CE | G2: =G6 -> DF | H2: =H6 -> ES | I2: =I6 -> GO | J2: =J6 -> MG | K2: =K6 -> MS | ... W2: =W6 -> Amplitude | X2: Cofins | Y2: s/folha | Z2: Outros | AA2: =AA6 -> PIS | AB2: s/lucro | AC2: ICMS
B3: 47 | C3: =INDEX(bdGraficoDoenças!$C$7:$AC$53,$B$3,C1) -> MÉDIA DE TODAS AS DOENÇAS | D3: =INDEX(bdGraficoDoenças!$C$7:$AC$53,$B$3,D1)/100 -> 0.30716073 | E3: =INDEX(bdGraficoDoenças!$C$7:$AC$53,$B$3,E1)/100 -> 0.30716073 | F3: =INDEX(bdGraficoDoenças!$C$7:$AC$53,$B$3,F1)/100 -> 0.30716073 | G3: =INDEX(bdGraficoDoenças!$C$7:$AC$53,$B$3,G1)/100 -> 0.30716073 | H3: =INDEX(bdGraficoDoenças!$C$7:$AC$53,$B$3,H1)/100 -> 0.30716073 | I3: =INDEX(bdGraficoDoenças!$C$7:$AC$53,$B$3,I1)/100 -> 0.30716073 | J3: =INDEX(bdGraficoDoenças!$C$7:$AC$53,$B$3,J1)/100 -> 0.30495035 | K3: =INDEX(bdGraficoDoenças!$C$7:$AC$53,$B$3,K1)/100 -> 0.30716073 | ... AC3: =INDEX(bdGraficoDoenças!$C$7:$AC$53,$B$3,AC1)/100 -> 0.18
C4: =PROPER("Grupo: "&C3) -> Grupo: Média De Todas As Doenças | AC4: ="Composição na UF: "&INDEX(bdGraficoDoenças!$D$6:$S$6,1,AC5) -> Composição na UF: SP
AC5: 16
C6: DOENÇA | D6: AM | E6: BA | F6: CE | G6: DF | H6: ES | I6: GO | J6: MG | K6: MS | L6: MT | M6: PA | N6: PE | O6: PR | P6: RJ | Q6: RS | R6: SC | S6: SP | T6: Menor | U6: Maior | V6: Média | W6: Amplitude | X6: COFINS | Y6: FOLHA | Z6: OUTROS | AA6: PIS | AB6: LUCRO | AC6: ICMS | AH6: Preço | AI6: Tributo | AJ6: Impacto
C7: ACNE | D7: 30.74 | E7: 30.74 | F7: 30.74 | G7: 30.74 | H7: 30.74 | I7: 30.74 | J7: 29.74 | K7: 30.74 | L7: 30.74 | M7: 30.74 | N7: 30.74 | O7: 25.74 | P7: 32.74 | Q7: 30.74 | R7: 30.74 | S7: 31.74 | T7: =MIN(bdGraficoDoenças!$D7:$S7) -> 25.74 | U7: =MAX(bdGraficoDoenças!$D7:$S7) -> 32.74 | V7: =AVERAGE(bdGraficoDoenças!$D7:$S7) -> 30.5525 | W7: =+bdGraficoDoenças!$U7-bdGraficoDoenças!$T7 -> 7 | X7: 4.95 | Y7: 3.27 | Z7: 1.35 | AA7: 1.05 | AB7: 3.12 | AC7: =INDEX(Tabela1[[#This Row],[AM ]:[SP ]],1,$AC$5)-Tabela1[[#This Row],[COFINS]]-Tabela1[[#This Row],[FOLHA]]-Tabela1[[#This Row],[OUTROS]]-Tabela1[[#This Row],[PIS]]-Tabela1[[#This Row],[LUCRO]] -> 18 | AH7: 5 | AI7: =AH7*$W$3 -> 0.35 | AJ7: =AH7-AI7 -> 4.65
C8: ALERGIA | D8: 34.073333 | E8: 34.073333 | F8: 34.073333 | G8: 34.073333 | H8: 34.073333 | I8: 34.073333 | J8: 34.406667 | K8: 34.073333 | L8: 34.073333 | M8: 34.073333 | N8: 34.073333 | O8: 29.073333 | P8: 36.073333 | Q8: 34.073333 | R8: 34.073333 | S8: 35.073333 | T8: =MIN(bdGraficoDoenças!$D8:$S8) -> 29.073333 | U8: =MAX(bdGraficoDoenças!$D8:$S8) -> 36.073333 | V8: =AVERAGE(bdGraficoDoenças!$D8:$S8) -> 33.969167 | W8: =+bdGraficoDoenças!$U8-bdGraficoDoenças!$T8 -> 7 | X8: 7.7 | Y8: 3.27 | Z8: 1.35 | AA8: 1.6333333 | AB8: 3.12 | AC8: =INDEX(Tabela1[[#This Row],[AM ]:[SP ]],1,$AC$5)-Tabela1[[#This Row],[COFINS]]-Tabela1[[#This Row],[FOLHA]]-Tabela1[[#This Row],[OUTROS]]-Tabela1[[#This Row],[PIS]]-Tabela1[[#This Row],[LUCRO]] -> 18 | AH8: 10 | AI8: =AH8*$W$3 -> 0.7 | AJ8: =AH8-AI8 -> 9.3
C9: ALZHEIMER | D9: 24.74 | E9: 24.74 | F9: 24.74 | G9: 24.74 | H9: 24.74 | I9: 24.74 | J9: 24.54 | K9: 24.74 | L9: 24.74 | M9: 24.74 | N9: 24.74 | O9: 19.74 | P9: 26.74 | Q9: 24.74 | R9: 24.74 | S9: 25.74 | T9: =MIN(bdGraficoDoenças!$D9:$S9) -> 19.74 | U9: =MAX(bdGraficoDoenças!$D9:$S9) -> 26.74 | V9: =AVERAGE(bdGraficoDoenças!$D9:$S9) -> 24.6025 | W9: =+bdGraficoDoenças!$U9-bdGraficoDoenças!$T9 -> 7 | X9: 0 | Y9: 3.27 | Z9: 1.35 | AA9: 0 | AB9: 3.12 | AC9: =INDEX(Tabela1[[#This Row],[AM ]:[SP ]],1,$AC$5)-Tabela1[[#This Row],[COFINS]]-Tabela1[[#This Row],[FOLHA]]-Tabela1[[#This Row],[OUTROS]]-Tabela1[[#This Row],[PIS]]-Tabela1[[#This Row],[LUCRO]] -> 18 | AH9: 15 | AI9: =AH9*$W$3 -> 1.05 | AJ9: =AH9-AI9 -> 13.95
C10: ANEMIA | D10: 35.54 | E10: 35.54 | F10: 35.54 | G10: 35.54 | H10: 35.54 | I10: 35.54 | J10: 36.54 | K10: 35.54 | L10: 35.54 | M10: 35.54 | N10: 35.54 | O10: 30.54 | P10: 37.54 | Q10: 35.54 | R10: 35.54 | S10: 36.54 | T10: =MIN(bdGraficoDoenças!$D10:$S10) -> 30.54 | U10: =MAX(bdGraficoDoenças!$D10:$S10) -> 37.54 | V10: =AVERAGE(bdGraficoDoenças!$D10:$S10) -> 35.4775 | W10: =+bdGraficoDoenças!$U10-bdGraficoDoenças!$T10 -> 7 | X10: 8.91 | Y10: 3.27 | Z10: 1.35 | AA10: 1.89 | AB10: 3.12 | AC10: =INDEX(Tabela1[[#This Row],[AM ]:[SP ]],1,$AC$5)-Tabela1[[#This Row],[COFINS]]-Tabela1[[#This Row],[FOLHA]]-Tabela1[[#This Row],[OUTROS]]-Tabela1[[#This Row],[PIS]]-Tabela1[[#This Row],[LUCRO]] -> 18 | AH10: 20 | AI10: =AH10*$W$3 -> 1.4 | AJ10: =AH10-AI10 -> 18.6
C11: ANTICONCEPCIONAIS | D11: 24.74 | E11: 24.74 | F11: 24.74 | G11: 24.74 | H11: 24.74 | I11: 24.74 | J11: 25.74 | K11: 24.74 | L11: 24.74 | M11: 24.74 | N11: 24.74 | O11: 19.74 | P11: 26.74 | Q11: 24.74 | R11: 24.74 | S11: 25.74 | T11: =MIN(bdGraficoDoenças!$D11:$S11) -> 19.74 | U11: =MAX(bdGraficoDoenças!$D11:$S11) -> 26.74 | V11: =AVERAGE(bdGraficoDoenças!$D11:$S11) -> 24.6775 | W11: =+bdGraficoDoenças!$U11-bdGraficoDoenças!$T11 -> 7 | X11: 0 | Y11: 3.27 | Z11: 1.35 | AA11: 0 | AB11: 3.12 | AC11: =INDEX(Tabela1[[#This Row],[AM ]:[SP ]],1,$AC$5)-Tabela1[[#This Row],[COFINS]]-Tabela1[[#This Row],[FOLHA]]-Tabela1[[#This Row],[OUTROS]]-Tabela1[[#This Row],[PIS]]-Tabela1[[#This Row],[LUCRO]] -> 18 | AH11: 30 | AI11: =AH11*$W$3 -> 2.1 | AJ11: =AH11-AI11 -> 27.9
C12: ARRITMIA | D12: 24.74 | E12: 24.74 | F12: 24.74 | G12: 24.74 | H12: 24.74 | I12: 24.74 | J12: 25.14 | K12: 24.74 | L12: 24.74 | M12: 24.74 | N12: 24.74 | O12: 19.74 | P12: 26.74 | Q12: 24.74 | R12: 24.74 | S12: 25.74 | T12: =MIN(bdGraficoDoenças!$D12:$S12) -> 19.74 | U12: =MAX(bdGraficoDoenças!$D12:$S12) -> 26.74 | V12: =AVERAGE(bdGraficoDoenças!$D12:$S12) -> 24.64 | W12: =+bdGraficoDoenças!$U12-bdGraficoDoenças!$T12 -> 7 | X12: 0 | Y12: 3.27 | Z12: 1.35 | AA12: 0 | AB12: 3.12 | AC12: =INDEX(Tabela1[[#This Row],[AM ]:[SP ]],1,$AC$5)-Tabela1[[#This Row],[COFINS]]-Tabela1[[#This Row],[FOLHA]]-Tabela1[[#This Row],[OUTROS]]-Tabela1[[#This Row],[PIS]]-Tabela1[[#This Row],[LUCRO]] -> 18 | AH12: 50 | AI12: =AH12*$W$3 -> 3.5 | AJ12: =AH12-AI12 -> 46.5
C13: ASMA | D13: 24.74 | E13: 24.74 | F13: 24.74 | G13: 24.74 | H13: 24.74 | I13: 24.74 | J13: 25.74 | K13: 24.74 | L13: 24.74 | M13: 24.74 | N13: 24.74 | O13: 19.74 | P13: 26.74 | Q13: 24.74 | R13: 24.74 | S13: 25.74 | T13: =MIN(bdGraficoDoenças!$D13:$S13) -> 19.74 | U13: =MAX(bdGraficoDoenças!$D13:$S13) -> 26.74 | V13: =AVERAGE(bdGraficoDoenças!$D13:$S13) -> 24.6775 | W13: =+bdGraficoDoenças!$U13-bdGraficoDoenças!$T13 -> 7 | X13: 0 | Y13: 3.27 | Z13: 1.35 | AA13: 0 | AB13: 3.12 | AC13: =INDEX(Tabela1[[#This Row],[AM ]:[SP ]],1,$AC$5)-Tabela1[[#This Row],[COFINS]]-Tabela1[[#This Row],[FOLHA]]-Tabela1[[#This Row],[OUTROS]]-Tabela1[[#This Row],[PIS]]-Tabela1[[#This Row],[LUCRO]] -> 18 | AH13: 100 | AI13: =AH13*$W$3 -> 7 | AJ13: =AH13-AI13 -> 93
C14: AZIA/ MÁ DIGESTÃO | D14: 36.74 | E14: 36.74 | F14: 36.74 | G14: 36.74 | H14: 36.74 | I14: 36.74 | J14: 36.24 | K14: 36.74 | L14: 36.74 | M14: 36.74 | N14: 36.74 | O14: 31.74 | P14: 38.74 | Q14: 36.74 | R14: 36.74 | S14: 37.74 | T14: =MIN(bdGraficoDoenças!$D14:$S14) -> 31.74 | U14: =MAX(bdGraficoDoenças!$D14:$S14) -> 38.74 | V14: =AVERAGE(bdGraficoDoenças!$D14:$S14) -> 36.58375 | W14: =+bdGraficoDoenças!$U14-bdGraficoDoenças!$T14 -> 7 | X14: 9.9 | Y14: 3.27 | Z14: 1.35 | AA14: 2.1 | AB14: 3.12 | AC14: =INDEX(Tabela1[[#This Row],[AM ]:[SP ]],1,$AC$5)-Tabela1[[#This Row],[COFINS]]-Tabela1[[#This Row],[FOLHA]]-Tabela1[[#This Row],[OUTROS]]-Tabela1[[#This Row],[PIS]]-Tabela1[[#This Row],[LUCRO]] -> 18
C15: BRONQUITE | D15: 31.406667 | E15: 31.406667 | F15: 31.406667 | G15: 31.406667 | H15: 31.406667 | I15: 31.406667 | J15: 32.406667 | K15: 31.406667 | L15: 31.406667 | M15: 31.406667 | N15: 31.406667 | O15: 26.406667 | P15: 33.406667 | Q15: 31.406667 | R15: 31.406667 | S15: 32.406667 | T15: =MIN(bdGraficoDoenças!$D15:$S15) -> 26.406667 | U15: =MAX(bdGraficoDoenças!$D15:$S15) -> 33.406667 | V15: =AVERAGE(bdGraficoDoenças!$D15:$S15) -> 31.344167 | W15: =+bdGraficoDoenças!$U15-bdGraficoDoenças!$T15 -> 7 | X15: 5.5 | Y15: 3.27 | Z15: 1.35 | AA15: 1.1666667 | AB15: 3.12 | AC15: =INDEX(Tabela1[[#This Row],[AM ]:[SP ]],1,$AC$5)-Tabela1[[#This Row],[COFINS]]-Tabela1[[#This Row],[FOLHA]]-Tabela1[[#This Row],[OUTROS]]-Tabela1[[#This Row],[PIS]]-Tabela1[[#This Row],[LUCRO]] -> 18
C16: CARDIOPATIAS | D16: 24.74 | E16: 24.74 | F16: 24.74 | G16: 24.74 | H16: 24.74 | I16: 24.74 | J16: 23.74 | K16: 24.74 | L16: 24.74 | M16: 24.74 | N16: 24.74 | O16: 19.74 | P16: 26.74 | Q16: 24.74 | R16: 24.74 | S16: 25.74 | T16: =MIN(bdGraficoDoenças!$D16:$S16) -> 19.74 | U16: =MAX(bdGraficoDoenças!$D16:$S16) -> 26.74 | V16: =AVERAGE(bdGraficoDoenças!$D16:$S16) -> 24.5525 | W16: =+bdGraficoDoenças!$U16-bdGraficoDoenças!$T16 -> 7 | X16: 0 | Y16: 3.27 | Z16: 1.35 | AA16: 0 | AB16: 3.12 | AC16: =INDEX(Tabela1[[#This Row],[AM ]:[SP ]],1,$AC$5)-Tabela1[[#This Row],[COFINS]]-Tabela1[[#This Row],[FOLHA]]-Tabela1[[#This Row],[OUTROS]]-Tabela1[[#This Row],[PIS]]-Tabela1[[#This Row],[LUCRO]] -> 18
C17: COLESTEROL | D17: 25.94 | E17: 25.94 | F17: 25.94 | G17: 25.94 | H17: 25.94 | I17: 25.94 | J17: 24.54 | K17: 25.94 | L17: 25.94 | M17: 25.94 | N17: 25.94 | O17: 20.94 | P17: 27.94 | Q17: 25.94 | R17: 25.94 | S17: 26.94 | T17: =MIN(bdGraficoDoenças!$D17:$S17) -> 20.94 | U17: =MAX(bdGraficoDoenças!$D17:$S17) -> 27.94 | V17: =AVERAGE(bdGraficoDoenças!$D17:$S17) -> 25.7275 | W17: =+bdGraficoDoenças!$U17-bdGraficoDoenças!$T17 -> 7 | X17: 0.99 | Y17: 3.27 | Z17: 1.35 | AA17: 0.21 | AB17: 3.12 | AC17: =INDEX(Tabela1[[#This Row],[AM ]:[SP ]],1,$AC$5)-Tabela1[[#This Row],[COFINS]]-Tabela1[[#This Row],[FOLHA]]-Tabela1[[#This Row],[OUTROS]]-Tabela1[[#This Row],[PIS]]-Tabela1[[#This Row],[LUCRO]] -> 18
C18: CÓLICAS MENSTRUAIS | D18: 35.54 | E18: 35.54 | F18: 35.54 | G18: 35.54 | H18: 35.54 | I18: 35.54 | J18: 35.94 | K18: 35.54 | L18: 35.54 | M18: 35.54 | N18: 35.54 | O18: 30.54 | P18: 37.54 | Q18: 35.54 | R18: 35.54 | S18: 36.54 | T18: =MIN(bdGraficoDoenças!$D18:$S18) -> 30.54 | U18: =MAX(bdGraficoDoenças!$D18:$S18) -> 37.54 | V18: =AVERAGE(bdGraficoDoenças!$D18:$S18) -> 35.44 | W18: =+bdGraficoDoenças!$U18-bdGraficoDoenças!$T18 -> 7 | X18: 8.91 | Y18: 3.27 | Z18: 1.35 | AA18: 1.89 | AB18: 3.12 | AC18: =INDEX(Tabela1[[#This Row],[AM ]:[SP ]],1,$AC$5)-Tabela1[[#This Row],[COFINS]]-Tabela1[[#This Row],[FOLHA]]-Tabela1[[#This Row],[OUTROS]]-Tabela1[[#This Row],[PIS]]-Tabela1[[#This Row],[LUCRO]] -> 18
C19: CONJUNTIVITE | D19: 27.406667 | E19: 27.406667 | F19: 27.406667 | G19: 27.406667 | H19: 27.406667 | I19: 27.406667 | J19: 27.74 | K19: 27.406667 | L19: 27.406667 | M19: 27.406667 | N19: 27.406667 | O19: 22.406667 | P19: 29.406667 | Q19: 27.406667 | R19: 27.406667 | S19: 28.406667 | T19: =MIN(bdGraficoDoenças!$D19:$S19) -> 22.406667 | U19: =MAX(bdGraficoDoenças!$D19:$S19) -> 29.406667 | V19: =AVERAGE(bdGraficoDoenças!$D19:$S19) -> 27.3025 | W19: =+bdGraficoDoenças!$U19-bdGraficoDoenças!$T19 -> 7 | X19: 2.2 | Y19: 3.27 | Z19: 1.35 | AA19: 0.46666667 | AB19: 3.12 | AC19: =INDEX(Tabela1[[#This Row],[AM ]:[SP ]],1,$AC$5)-Tabela1[[#This Row],[COFINS]]-Tabela1[[#This Row],[FOLHA]]-Tabela1[[#This Row],[OUTROS]]-Tabela1[[#This Row],[PIS]]-Tabela1[[#This Row],[LUCRO]] -> 18
C20: DEPRESSÃO | D20: 24.74 | E20: 24.74 | F20: 24.74 | G20: 24.74 | H20: 24.74 | I20: 24.74 | J20: 22.74 | K20: 24.74 | L20: 24.74 | M20: 24.74 | N20: 24.74 | O20: 19.74 | P20: 26.74 | Q20: 24.74 | R20: 24.74 | S20: 25.74 | T20: =MIN(bdGraficoDoenças!$D20:$S20) -> 19.74 | U20: =MAX(bdGraficoDoenças!$D20:$S20) -> 26.74 | V20: =AVERAGE(bdGraficoDoenças!$D20:$S20) -> 24.49 | W20: =+bdGraficoDoenças!$U20-bdGraficoDoenças!$T20 -> 7 | X20: 0 | Y20: 3.27 | Z20: 1.35 | AA20: 0 | AB20: 3.12 | AC20: =INDEX(Tabela1[[#This Row],[AM ]:[SP ]],1,$AC$5)-Tabela1[[#This Row],[COFINS]]-Tabela1[[#This Row],[FOLHA]]-Tabela1[[#This Row],[OUTROS]]-Tabela1[[#This Row],[PIS]]-Tabela1[[#This Row],[LUCRO]] -> 18
C21: DIABETES | D21: 24.74 | E21: 24.74 | F21: 24.74 | G21: 24.74 | H21: 24.74 | I21: 24.74 | J21: 22.74 | K21: 24.74 | L21: 24.74 | M21: 24.74 | N21: 24.74 | O21: 19.74 | P21: 26.74 | Q21: 24.74 | R21: 24.74 | S21: 25.74 | T21: =MIN(bdGraficoDoenças!$D21:$S21) -> 19.74 | U21: =MAX(bdGraficoDoenças!$D21:$S21) -> 26.74 | V21: =AVERAGE(bdGraficoDoenças!$D21:$S21) -> 24.49 | W21: =+bdGraficoDoenças!$U21-bdGraficoDoenças!$T21 -> 7 | X21: 0 | Y21: 3.27 | Z21: 1.35 | AA21: 0 | AB21: 3.12 | AC21: =INDEX(Tabela1[[#This Row],[AM ]:[SP ]],1,$AC$5)-Tabela1[[#This Row],[COFINS]]-Tabela1[[#This Row],[FOLHA]]-Tabela1[[#This Row],[OUTROS]]-Tabela1[[#This Row],[PIS]]-Tabela1[[#This Row],[LUCRO]] -> 18
C22: DISENTERIA/ DIARRÉIA | D22: 34.34 | E22: 34.34 | F22: 34.34 | G22: 34.34 | H22: 34.34 | I22: 34.34 | J22: 34.74 | K22: 34.34 | L22: 34.34 | M22: 34.34 | N22: 34.34 | O22: 29.34 | P22: 36.34 | Q22: 34.34 | R22: 34.34 | S22: 35.34 | T22: =MIN(bdGraficoDoenças!$D22:$S22) -> 29.34 | U22: =MAX(bdGraficoDoenças!$D22:$S22) -> 36.34 | V22: =AVERAGE(bdGraficoDoenças!$D22:$S22) -> 34.24 | W22: =+bdGraficoDoenças!$U22-bdGraficoDoenças!$T22 -> 7 | X22: 7.92 | Y22: 3.27 | Z22: 1.35 | AA22: 1.68 | AB22: 3.12 | AC22: =INDEX(Tabela1[[#This Row],[AM ]:[SP ]],1,$AC$5)-Tabela1[[#This Row],[COFINS]]-Tabela1[[#This Row],[FOLHA]]-Tabela1[[#This Row],[OUTROS]]-Tabela1[[#This Row],[PIS]]-Tabela1[[#This Row],[LUCRO]] -> 18
C23: DISFUNÇÃO ERÉTIL | D23: 35.54 | E23: 35.54 | F23: 35.54 | G23: 35.54 | H23: 35.54 | I23: 35.54 | J23: 31.74 | K23: 35.54 | L23: 35.54 | M23: 35.54 | N23: 35.54 | O23: 30.54 | P23: 37.54 | Q23: 35.54 | R23: 35.54 | S23: 36.54 | T23: =MIN(bdGraficoDoenças!$D23:$S23) -> 30.54 | U23: =MAX(bdGraficoDoenças!$D23:$S23) -> 37.54 | V23: =AVERAGE(bdGraficoDoenças!$D23:$S23) -> 35.1775 | W23: =+bdGraficoDoenças!$U23-bdGraficoDoenças!$T23 -> 7 | X23: 8.91 | Y23: 3.27 | Z23: 1.35 | AA23: 1.89 | AB23: 3.12 | AC23: =INDEX(Tabela1[[#This Row],[AM ]:[SP ]],1,$AC$5)-Tabela1[[#This Row],[COFINS]]-Tabela1[[#This Row],[FOLHA]]-Tabela1[[#This Row],[OUTROS]]-Tabela1[[#This Row],[PIS]]-Tabela1[[#This Row],[LUCRO]] -> 18
C24: DISTÚRBIOS CIRCULATÓRIOS | D24: 35.025714 | E24: 35.025714 | F24: 35.025714 | G24: 35.025714 | H24: 35.025714 | I24: 35.025714 | J24: 35.168571 | K24: 35.025714 | L24: 35.025714 | M24: 35.025714 | N24: 35.025714 | O24: 30.025714 | P24: 37.025714 | Q24: 35.025714 | R24: 35.025714 | S24: 36.025714 | T24: =MIN(bdGraficoDoenças!$D24:$S24) -> 30.025714 | U24: =MAX(bdGraficoDoenças!$D24:$S24) -> 37.025714 | V24: =AVERAGE(bdGraficoDoenças!$D24:$S24) -> 34.909643 | W24: =+bdGraficoDoenças!$U24-bdGraficoDoenças!$T24 -> 7 | X24: 8.4857143 | Y24: 3.27 | Z24: 1.35 | AA24: 1.8 | AB24: 3.12 | AC24: =INDEX(Tabela1[[#This Row],[AM ]:[SP ]],1,$AC$5)-Tabela1[[#This Row],[COFINS]]-Tabela1[[#This Row],[FOLHA]]-Tabela1[[#This Row],[OUTROS]]-Tabela1[[#This Row],[PIS]]-Tabela1[[#This Row],[LUCRO]] -> 18
C25: DOENÇAS PULMONARES - GERAL | D25: 31.94 | E25: 31.94 | F25: 31.94 | G25: 31.94 | H25: 31.94 | I25: 31.94 | J25: 32.34 | K25: 31.94 | L25: 31.94 | M25: 31.94 | N25: 31.94 | O25: 26.94 | P25: 33.94 | Q25: 31.94 | R25: 31.94 | S25: 32.94 | T25: =MIN(bdGraficoDoenças!$D25:$S25) -> 26.94 | U25: =MAX(bdGraficoDoenças!$D25:$S25) -> 33.94 | V25: =AVERAGE(bdGraficoDoenças!$D25:$S25) -> 31.84 | W25: =+bdGraficoDoenças!$U25-bdGraficoDoenças!$T25 -> 7 | X25: 5.94 | Y25: 3.27 | Z25: 1.35 | AA25: 1.26 | AB25: 3.12 | AC25: =INDEX(Tabela1[[#This Row],[AM ]:[SP ]],1,$AC$5)-Tabela1[[#This Row],[COFINS]]-Tabela1[[#This Row],[FOLHA]]-Tabela1[[#This Row],[OUTROS]]-Tabela1[[#This Row],[PIS]]-Tabela1[[#This Row],[LUCRO]] -> 18
... C52: TRH - MENOPAUSA | D52: 24.74 | E52: 24.74 | F52: 24.74 | G52: 24.74 | H52: 24.74 | I52: 24.74 | J52: 25.74 | K52: 24.74 | L52: 24.74 | M52: 24.74 | N52: 24.74 | O52: 19.74 | P52: 26.74 | Q52: 24.74 | R52: 24.74 | S52: 25.74 | T52: =MIN(bdGraficoDoenças!$D52:$S52) -> 19.74 | U52: =MAX(bdGraficoDoenças!$D52:$S52) -> 26.74 | V52: =AVERAGE(bdGraficoDoenças!$D52:$S52) -> 24.6775 | W52: =+bdGraficoDoenças!$U52-bdGraficoDoenças!$T52 -> 7 | X52: 0 | Y52: 3.27 | Z52: 1.35 | AA52: 0 | AB52: 3.12 | AC52: =INDEX(Tabela1[[#This Row],[AM ]:[SP ]],1,$AC$5)-Tabela1[[#This Row],[COFINS]]-Tabela1[[#This Row],[FOLHA]]-Tabela1[[#This Row],[OUTROS]]-Tabela1[[#This Row],[PIS]]-Tabela1[[#This Row],[LUCRO]] -> 18
C53: MÉDIA DE TODAS AS DOENÇAS | D53: =AVERAGE(D7:D52) -> 30.716073 | E53: =AVERAGE(E7:E52) -> 30.716073 | F53: =AVERAGE(F7:F52) -> 30.716073 | G53: =AVERAGE(G7:G52) -> 30.716073 | H53: =AVERAGE(H7:H52) -> 30.716073 | I53: =AVERAGE(I7:I52) -> 30.716073 | J53: =AVERAGE(J7:J52) -> 30.495035 | K53: =AVERAGE(K7:K52) -> 30.716073 | ... S53: =AVERAGE(S7:S52) -> 31.716073 | T53: =MIN(bdGraficoDoenças!$D53:$S53) -> 25.716073 | U53: =MAX(bdGraficoDoenças!$D53:$S53) -> 32.716073 | V53: =AVERAGE(bdGraficoDoenças!$D53:$S53) -> 30.577258 | W53: =+bdGraficoDoenças!$U53-bdGraficoDoenças!$T53 -> 7 | X53: =AVERAGE(X7:X52) -> 4.9301242 | Y53: =AVERAGE(Y7:Y52) -> 3.27 | Z53: =AVERAGE(Z7:Z52) -> 1.35 | AA53: =AVERAGE(AA7:AA52) -> 1.0459486 | AB53: =AVERAGE(AB7:AB52) -> 3.12 | AC53: =INDEX(Tabela1[[#This Row],[AM ]:[SP ]],1,$AC$5)-Tabela1[[#This Row],[COFINS]]-Tabela1[[#This Row],[FOLHA]]-Tabela1[[#This Row],[OUTROS]]-Tabela1[[#This Row],[PIS]]-Tabela1[[#This Row],[LUCRO]] -> 18
AC54: =SUBTOTAL(101,Tabela1[ICMS]) -> 18
S57: =489.16/16 -> 30.5725

Sheet GRUPO DOENCAS
R3: COFINS | S3: FOLHA | T3: OUTROS | U3: PIS | V3: LUCRO
A6: VISÃO DOENÇA E LABORATÓRIO | B6: Média de MÉDIA GERAL
A7: HIPERTENSÃO | B7: 24.34
A8: DEPRESSÃO | B8: 24.49
A9: DIABETES | B9: 24.49
A10: GOTA | B10: 24.5275
A11: CARDIOPATIAS | B11: 24.5525
A12: ALZHEIMER | B12: 24.6025
A13: TRATAMENTO OSTEOPOROSE | B13: 24.64
A14: ARRITMIA | B14: 24.64
A15: ANTICONCEPCIONAIS | B15: 24.6775
A16: ASMA | B16: 24.6775
A17: PARKINSON | B17: 24.6775
A18: TRH - MENOPAUSA | B18: 24.6775
... A52: GRIPE E RESFRIADO | B52: 36.6775

Sheet Visão Doenças
R3: COFINS | S3: FOLHA | T3: OUTROS | U3: PIS | V3: LUCRO
B6: Valores
A7: VISÃO DOENÇA E LABORATÓRIO | B7: Média de TOTAL AM | C7: BA | D7: CE | E7: DF | F7: ES | G7: GO | H7: MG | I7: MS | J7: MT | K7: PA | L7: PE | M7: PR | N7: RJ | O7: RS | P7: SC | Q7: SP | R7: COFINS | S7: FOLHA | T7: OUTROS | U7: PIS | V7: LUCRO
A8: ACNE | B8: 30.74 | C8: 30.74 | D8: 30.74 | E8: 30.74 | F8: 30.74 | G8: 30.74 | H8: 29.74 | I8: 30.74 | J8: 30.74 | K8: 30.74 | L8: 30.74 | M8: 25.74 | N8: 32.74 | O8: 30.74 | P8: 30.74 | Q8: 31.74 | R8: 4.95 | S8: 3.27 | T8: 1.35 | U8: 1.05 | V8: 3.12
A9: ALERGIA | B9: 34.073333 | C9: 34.073333 | D9: 34.073333 | E9: 34.073333 | F9: 34.073333 | G9: 34.073333 | H9: 34.406667 | I9: 34.073333 | J9: 34.073333 | K9: 34.073333 | L9: 34.073333 | M9: 29.073333 | N9: 36.073333 | O9: 34.073333 | P9: 34.073333 | Q9: 35.073333 | R9: 7.7 | S9: 3.27 | T9: 1.35 | U9: 1.6333333 | V9: 3.12
A10: ALZHEIMER | B10: 24.74 | C10: 24.74 | D10: 24.74 | E10: 24.74 | F10: 24.74 | G10: 24.74 | H10: 24.54 | I10: 24.74 | J10: 24.74 | K10: 24.74 | L10: 24.74 | M10: 19.74 | N10: 26.74 | O10: 24.74 | P10: 24.74 | Q10: 25.74 | R10: 0 | S10: 3.27 | T10: 1.35 | U10: 0 | V10: 3.12
A11: ANEMIA | B11: 35.54 | C11: 35.54 | D11: 35.54 | E11: 35.54 | F11: 35.54 | G11: 35.54 | H11: 36.54 | I11: 35.54 | J11: 35.54 | K11: 35.54 | L11: 35.54 | M11: 30.54 | N11: 37.54 | O11: 35.54 | P11: 35.54 | Q11: 36.54 | R11: 8.91 | S11: 3.27 | T11: 1.35 | U11: 1.89 | V11: 3.12
A12: ANTICONCEPCIONAIS | B12: 24.74 | C12: 24.74 | D12: 24.74 | E12: 24.74 | F12: 24.74 | G12: 24.74 | H12: 25.74 | I12: 24.74 | J12: 24.74 | K12: 24.74 | L12: 24.74 | M12: 19.74 | N12: 26.74 | O12: 24.74 | P12: 24.74 | Q12: 25.74 | R12: 0 | S12: 3.27 | T12: 1.35 | U12: 0 | V12: 3.12
A13: ARRITMIA | B13: 24.74 | C13: 24.74 | D13: 24.74 | E13: 24.74 | F13: 24.74 | G13: 24.74 | H13: 25.14 | I13: 24.74 | J13: 24.74 | K13: 24.74 | L13: 24.74 | M13: 19.74 | N13: 26.74 | O13: 24.74 | P13: 24.74 | Q13: 25.74 | R13: 0 | S13: 3.27 | T13: 1.35 | U13: 0 | V13: 3.12
A14: ASMA | B14: 24.74 | C14: 24.74 | D14: 24.74 | E14: 24.74 | F14: 24.74 | G14: 24.74 | H14: 25.74 | I14: 24.74 | J14: 24.74 | K14: 24.74 | L14: 24.74 | M14: 19.74 | N14: 26.74 | O14: 24.74 | P14: 24.74 | Q14: 25.74 | R14: 0 | S14: 3.27 | T14: 1.35 | U14: 0 | V14: 3.12
A15: AZIA/ MÁ DIGESTÃO | B15: 36.74 | C15: 36.74 | D15: 36.74 | E15: 36.74 | F15: 36.74 | G15: 36.74 | H15: 36.24 | I15: 36.74 | J15: 36.74 | K15: 36.74 | L15: 36.74 | M15: 31.74 | N15: 38.74 | O15: 36.74 | P15: 36.74 | Q15: 37.74 | R15: 9.9 | S15: 3.27 | T15: 1.35 | U15: 2.1 | V15: 3.12
A16: BRONQUITE | B16: 31.406667 | C16: 31.406667 | D16: 31.406667 | E16: 31.406667 | F16: 31.406667 | G16: 31.406667 | H16: 32.406667 | I16: 31.406667 | J16: 31.406667 | K16: 31.406667 | L16: 31.406667 | M16: 26.406667 | N16: 33.406667 | O16: 31.406667 | P16: 31.406667 | Q16: 32.406667 | R16: 5.5 | S16: 3.27 | T16: 1.35 | U16: 1.1666667 | V16: 3.12
A17: CARDIOPATIAS | B17: 24.74 | C17: 24.74 | D17: 24.74 | E17: 24.74 | F17: 24.74 | G17: 24.74 | H17: 23.74 | I17: 24.74 | J17: 24.74 | K17: 24.74 | L17: 24.74 | M17: 19.74 | N17: 26.74 | O17: 24.74 | P17: 24.74 | Q17: 25.74 | R17: 0 | S17: 3.27 | T17: 1.35 | U17: 0 | V17: 3.12
A18: COLESTEROL | B18: 25.94 | C18: 25.94 | D18: 25.94 | E18: 25.94 | F18: 25.94 | G18: 25.94 | H18: 24.54 | I18: 25.94 | J18: 25.94 | K18: 25.94 | L18: 25.94 | M18: 20.94 | N18: 27.94 | O18: 25.94 | P18: 25.94 | Q18: 26.94 | R18: 0.99 | S18: 3.27 | T18: 1.35 | U18: 0.21 | V18: 3.12
A19: CÓLICAS MENSTRUAIS | B19: 35.54 | C19: 35.54 | D19: 35.54 | E19: 35.54 | F19: 35.54 | G19: 35.54 | H19: 35.94 | I19: 35.54 | J19: 35.54 | K19: 35.54 | L19: 35.54 | M19: 30.54 | N19: 37.54 | O19: 35.54 | P19: 35.54 | Q19: 36.54 | R19: 8.91 | S19: 3.27 | T19: 1.35 | U19: 1.89 | V19: 3.12
... A54: Total Geral | B54: 30.57713 | C54: 30.57713 | D54: 30.57713 | E54: 30.57713 | F54: 30.57713 | G54: 30.57713 | H54: 30.347062 | I54: 30.57713 | J54: 30.57713 | K54: 30.57713 | L54: 30.57713 | M54: 25.57713 | N54: 32.57713 | O54: 30.57713 | P54: 30.57713 | Q54: 31.57713 | R54: 4.8154897 | S54: 3.27 | T54: 1.35 | U54: 1.0216401 | V54: 3.12

Sheet GráficoDoenças
AE12: 9

Sheet Carga Tributária doenças Po (2
AD3: I = Lista Positiva – Monodroga
AD4: II = Lista Positiva - Associações
AD5: III – Lista Positiva – Soluções Parenterais
AD6: N = Lista Negativa
AD7: NA = Lista Neutra
B9: 1 | C9: =+B9+1 -> 2 | D9: =+C9+1 -> 3 | E9: =+D9+1 -> 4 | F9: =+E9+1 -> 5 | G9: =+F9+1 -> 6 | H9: =+G9+1 -> 7 | I9: =+H9+1 -> 8 | J9: =+I9+1 -> 9 | ... AA9: =+Z9+1 -> 26 | AE9: =+AA9+1 -> 27 | AF9: =+AE9+1 -> 28 | AG9: =+AF9+1 -> 29 | AH9: =+AG9+1 -> 30 | AI9: =+AH9+1 -> 31 | AJ9: =+AI9+1 -> 32 | AK9: =+AJ9+1 -> 33 | AL9: =+AK9+1 -> 34 | AM9: =+AL9+1 -> 35 | ... BV9: =+BU9+1 -> 70
B10: id | C10: NCM | D10: EX_TIPI | E10: DATA REFERENCIA | F10: CodigoGGREM | G10: CodigoEAN | H10: RegitroMinisterioDaSaude | I10: ProdutoNome | J10: APRESENTAÇÕES | K10: SUBSTANCIA | L10: SUBST_1 | M10: SUBST_2 | N10: SUBST_3 | O10: SUBST_4 | P10: SUBST_5 | Q10: SUBST_52 | R10: LABORATÓRIOS | S10: LaboratorioNome | T10: LaboratorioCNPJ | U10: SUBST_6 | V10: 1 | W10: 2 | X10: 3 | Y10: 4 | Z10: ISENÇÃO DE PIS E COFINS | AA10: DESCRIÇÃO DA CLASSE TERAPÊUTICA | AB10: CAS | AC10: TARJA | AD10: LCCT | AE10: ETICO ou POP | AF10: S / G / M / R | AG10: MAT ~ 05/2014 Unidades (Caixas) | AH10: MAT ~ 05/2014 Dólares (US$) | AI10: MAT ~ 05/2014 Reais (R$) | AJ10: GRUPO | AK10: PIS | AL10: COFINS | AM10: CONTRIB. FOLHA | AN10: TRIBUTOS S/ LUCRO | AO10: OUTROS | AP10: SP | AQ10: PR | AR10: SC | AS10: RS | AT10: RJ | AU10: MG | AV10: ES | AW10: GO | AX10: MT | AY10: MS | AZ10: DF | BA10: BA | BB10: CE | BC10: PE | BD10: PA | BE10: AM | BF10: TOTAL SP | BG10: TOTAL PR | BH10: TOTAL SC | BI10: TOTAL RS | BJ10: TOTAL RJ | BK10: TOTAL MG | BL10: TOTAL ES | BM10: TOTAL GO | BN10: TOTAL MT | BO10: TOTAL MS | BP10: TOTAL DF | BQ10: TOTAL BA | BR10: TOTAL CE | BS10: TOTAL PE | BT10: TOTAL PA | BU10: TOTAL AM | BV10: MÉDIA GERAL | BW10: Colunas1 | BX10: MÉDIA EM CAIXAS EM R$
